BEGIN:VCALENDAR
VERSION:2.0
PRODID:-//Au fil de la Marne - ECPv6.15.20//NONSGML v1.0//EN
CALSCALE:GREGORIAN
METHOD:PUBLISH
X-WR-CALNAME:Au fil de la Marne
X-ORIGINAL-URL:https://aufildelamarne.fr
X-WR-CALDESC:Évènements pour Au fil de la Marne
REFRESH-INTERVAL;VALUE=DURATION:PT1H
X-Robots-Tag:noindex
X-PUBLISHED-TTL:PT1H
BEGIN:VTIMEZONE
TZID:Europe/Paris
BEGIN:DAYLIGHT
TZOFFSETFROM:+0100
TZOFFSETTO:+0200
TZNAME:CEST
DTSTART:20230326T010000
END:DAYLIGHT
BEGIN:STANDARD
TZOFFSETFROM:+0200
TZOFFSETTO:+0100
TZNAME:CET
DTSTART:20231029T010000
END:STANDARD
BEGIN:DAYLIGHT
TZOFFSETFROM:+0100
TZOFFSETTO:+0200
TZNAME:CEST
DTSTART:20240331T010000
END:DAYLIGHT
BEGIN:STANDARD
TZOFFSETFROM:+0200
TZOFFSETTO:+0100
TZNAME:CET
DTSTART:20241027T010000
END:STANDARD
BEGIN:DAYLIGHT
TZOFFSETFROM:+0100
TZOFFSETTO:+0200
TZNAME:CEST
DTSTART:20250330T010000
END:DAYLIGHT
BEGIN:STANDARD
TZOFFSETFROM:+0200
TZOFFSETTO:+0100
TZNAME:CET
DTSTART:20251026T010000
END:STANDARD
END:VTIMEZONE
BEGIN:VEVENT
DTSTART;TZID=Europe/Paris:20241105T190000
DTEND;TZID=Europe/Paris:20241105T220000
DTSTAMP:20260421T204224
CREATED:20240917T121215Z
LAST-MODIFIED:20240917T121231Z
UID:2147-1730833200-1730844000@aufildelamarne.fr
SUMMARY:Cours adultes collectifs
DESCRIPTION:Nos cours collectifs sont accessibles à tous les niveaux\, que vous soyez débutant ou confirmé. \nDurée : 3 heures (hors vacances scolaires) \n✂️ Les tissus\, mercerie et patrons ne sont pas compris dans le prix. \n💶 59 € à la carte \n💡 Nous proposons des abonnements annuels ou mensuels\, selon vos envies. N’hésitez pas à consulter nos tarifs ici. \n📅  Les horaires des cours collectifs sont : \nMardi 19-22h \nJeudi 14h30-17h30  \nSamedi 9h30-12h30
URL:https://aufildelamarne.fr/atelier/cours-adultes-collectifs-52/
LOCATION:3 Rue Léon Menu\, 94360 Bry-sur-Marne\, 3 rue Léon Menu\, Bry-sur-Marne\, 94360\, France
CATEGORIES:Cours adultes
ATTACH;FMTTYPE=image/jpeg:https://aufildelamarne.fr/wp-content/uploads/2024/03/15-copie.jpg
END:VEVENT
BEGIN:VEVENT
DTSTART;TZID=Europe/Paris:20241109T093000
DTEND;TZID=Europe/Paris:20241109T123000
DTSTAMP:20260421T204224
CREATED:20240917T100915Z
LAST-MODIFIED:20241105T111744Z
UID:2091-1731144600-1731155400@aufildelamarne.fr
SUMMARY:Cours adultes collectifs
DESCRIPTION:Nos cours collectifs sont accessibles à tous les niveaux\, que vous soyez débutant ou confirmé. \nDurée : 3 heures (hors vacances scolaires) \n✂️ Les tissus\, mercerie et patrons ne sont pas compris dans le prix. \n💶 59 € à la carte \n💡 Nous proposons des abonnements annuels ou mensuels\, selon vos envies. N’hésitez pas à consulter nos tarifs ici. \n📅  Les horaires des cours collectifs sont : \nMardi 19-22h \nJeudi 14h30-17h30  \nSamedi 9h30-12h30
URL:https://aufildelamarne.fr/atelier/cours-adultes-collectifs-41/
LOCATION:3 Rue Léon Menu\, 94360 Bry-sur-Marne\, 3 rue Léon Menu\, Bry-sur-Marne\, 94360\, France
CATEGORIES:Cours adultes
ATTACH;FMTTYPE=image/jpeg:https://aufildelamarne.fr/wp-content/uploads/2024/03/15-copie.jpg
END:VEVENT
BEGIN:VEVENT
DTSTART;TZID=Europe/Paris:20241112T190000
DTEND;TZID=Europe/Paris:20241112T220000
DTSTAMP:20260421T204224
CREATED:20240917T121402Z
LAST-MODIFIED:20240917T121402Z
UID:2145-1731438000-1731448800@aufildelamarne.fr
SUMMARY:Cours adultes collectifs
DESCRIPTION:Nos cours collectifs sont accessibles à tous les niveaux\, que vous soyez débutant ou confirmé. \nDurée : 3 heures (hors vacances scolaires) \n✂️ Les tissus\, mercerie et patrons ne sont pas compris dans le prix. \n💶 59 € à la carte \n💡 Nous proposons des abonnements annuels ou mensuels\, selon vos envies. N’hésitez pas à consulter nos tarifs ici. \n📅  Les horaires des cours collectifs sont : \nMardi 19-22h \nJeudi 14h30-17h30  \nSamedi 9h30-12h30
URL:https://aufildelamarne.fr/atelier/cours-adultes-collectifs-53/
LOCATION:3 Rue Léon Menu\, 94360 Bry-sur-Marne\, 3 rue Léon Menu\, Bry-sur-Marne\, 94360\, France
CATEGORIES:Cours adultes
ATTACH;FMTTYPE=image/jpeg:https://aufildelamarne.fr/wp-content/uploads/2024/03/15-copie.jpg
END:VEVENT
BEGIN:VEVENT
DTSTART;TZID=Europe/Paris:20241114T143000
DTEND;TZID=Europe/Paris:20241114T173000
DTSTAMP:20260421T204224
CREATED:20240903T080602Z
LAST-MODIFIED:20240917T094944Z
UID:2031-1731594600-1731605400@aufildelamarne.fr
SUMMARY:Cours adultes collectifs
DESCRIPTION:Nos cours collectifs sont accessibles à tous les niveaux\, que vous soyez débutant ou confirmé. \nDurée : 3 heures (hors vacances scolaires) \n✂️ Les tissus\, mercerie et patrons ne sont pas compris dans le prix. \n💶 59 € à la carte \n💡 Nous proposons des abonnements annuels ou mensuels\, selon vos envies. N’hésitez pas à consulter nos tarifs ici. \n📅  Les horaires des cours collectifs sont : \nMardi 19-22h \nJeudi 14h30-17h30  \nSamedi 9h30-12h30
URL:https://aufildelamarne.fr/atelier/cours-adultes-collectifs-28/
LOCATION:3 Rue Léon Menu\, 94360 Bry-sur-Marne\, 3 rue Léon Menu\, Bry-sur-Marne\, 94360\, France
CATEGORIES:Cours adultes
ATTACH;FMTTYPE=image/jpeg:https://aufildelamarne.fr/wp-content/uploads/2024/03/42.jpg
END:VEVENT
BEGIN:VEVENT
DTSTART;TZID=Europe/Paris:20241116T093000
DTEND;TZID=Europe/Paris:20241116T123000
DTSTAMP:20260421T204224
CREATED:20240917T101203Z
LAST-MODIFIED:20241105T110813Z
UID:2089-1731749400-1731760200@aufildelamarne.fr
SUMMARY:Cours adultes collectifs
DESCRIPTION:Nos cours collectifs sont accessibles à tous les niveaux\, que vous soyez débutant ou confirmé. \nDurée : 3 heures (hors vacances scolaires) \n✂️ Les tissus\, mercerie et patrons ne sont pas compris dans le prix. \n💶 59 € à la carte \n💡 Nous proposons des abonnements annuels ou mensuels\, selon vos envies. N’hésitez pas à consulter nos tarifs ici. \n📅  Les horaires des cours collectifs sont : \nMardi 19-22h \nJeudi 14h30-17h30  \nSamedi 9h30-12h30
URL:https://aufildelamarne.fr/atelier/cours-adultes-collectifs-42/
LOCATION:3 Rue Léon Menu\, 94360 Bry-sur-Marne\, 3 rue Léon Menu\, Bry-sur-Marne\, 94360\, France
CATEGORIES:Cours adultes
ATTACH;FMTTYPE=image/jpeg:https://aufildelamarne.fr/wp-content/uploads/2024/03/15-copie.jpg
END:VEVENT
BEGIN:VEVENT
DTSTART;TZID=Europe/Paris:20241119T190000
DTEND;TZID=Europe/Paris:20241119T220000
DTSTAMP:20260421T204224
CREATED:20240917T121532Z
LAST-MODIFIED:20240917T121619Z
UID:2144-1732042800-1732053600@aufildelamarne.fr
SUMMARY:Cours adultes collectifs
DESCRIPTION:Nos cours collectifs sont accessibles à tous les niveaux\, que vous soyez débutant ou confirmé. \nDurée : 3 heures (hors vacances scolaires) \n✂️ Les tissus\, mercerie et patrons ne sont pas compris dans le prix. \n💶 59 € à la carte \n💡 Nous proposons des abonnements annuels ou mensuels\, selon vos envies. N’hésitez pas à consulter nos tarifs ici. \n📅  Les horaires des cours collectifs sont : \nMardi 19-22h \nJeudi 14h30-17h30  \nSamedi 9h30-12h30
URL:https://aufildelamarne.fr/atelier/cours-adultes-collectifs-54/
LOCATION:3 Rue Léon Menu\, 94360 Bry-sur-Marne\, 3 rue Léon Menu\, Bry-sur-Marne\, 94360\, France
CATEGORIES:Cours adultes
ATTACH;FMTTYPE=image/jpeg:https://aufildelamarne.fr/wp-content/uploads/2024/03/15-copie.jpg
END:VEVENT
BEGIN:VEVENT
DTSTART;TZID=Europe/Paris:20241121T143000
DTEND;TZID=Europe/Paris:20241121T173000
DTSTAMP:20260421T204224
CREATED:20240917T124435Z
LAST-MODIFIED:20240917T124435Z
UID:2176-1732199400-1732210200@aufildelamarne.fr
SUMMARY:Cours adultes collectifs
DESCRIPTION:Nos cours collectifs sont accessibles à tous les niveaux\, que vous soyez débutant ou confirmé. \nDurée : 3 heures (hors vacances scolaires) \n✂️ Les tissus\, mercerie et patrons ne sont pas compris dans le prix. \n💶 59 € à la carte \n💡 Nous proposons des abonnements annuels ou mensuels\, selon vos envies. N’hésitez pas à consulter nos tarifs ici. \n📅  Les horaires des cours collectifs sont : \nMardi 19-22h \nJeudi 14h30-17h30  \nSamedi 9h30-12h30
URL:https://aufildelamarne.fr/atelier/cours-adultes-collectifs-61/
LOCATION:3 Rue Léon Menu\, 94360 Bry-sur-Marne\, 3 rue Léon Menu\, Bry-sur-Marne\, 94360\, France
CATEGORIES:Cours adultes
ATTACH;FMTTYPE=image/jpeg:https://aufildelamarne.fr/wp-content/uploads/2024/03/42.jpg
END:VEVENT
BEGIN:VEVENT
DTSTART;TZID=Europe/Paris:20241123T093000
DTEND;TZID=Europe/Paris:20241123T123000
DTSTAMP:20260421T204224
CREATED:20240917T102826Z
LAST-MODIFIED:20240917T102953Z
UID:2092-1732354200-1732365000@aufildelamarne.fr
SUMMARY:Cours adultes collectifs
DESCRIPTION:Nos cours collectifs sont accessibles à tous les niveaux\, que vous soyez débutant ou confirmé. \nDurée : 3 heures (hors vacances scolaires) \n✂️ Les tissus\, mercerie et patrons ne sont pas compris dans le prix. \n💶 59 € à la carte \n💡 Nous proposons des abonnements annuels ou mensuels\, selon vos envies. N’hésitez pas à consulter nos tarifs ici. \n📅  Les horaires des cours collectifs sont : \nMardi 19-22h \nJeudi 14h30-17h30  \nSamedi 9h30-12h30
URL:https://aufildelamarne.fr/atelier/cours-adultes-collectifs-43/
LOCATION:3 Rue Léon Menu\, 94360 Bry-sur-Marne\, 3 rue Léon Menu\, Bry-sur-Marne\, 94360\, France
CATEGORIES:Cours adultes
ATTACH;FMTTYPE=image/jpeg:https://aufildelamarne.fr/wp-content/uploads/2024/03/15-copie.jpg
END:VEVENT
BEGIN:VEVENT
DTSTART;TZID=Europe/Paris:20241126T190000
DTEND;TZID=Europe/Paris:20241126T220000
DTSTAMP:20260421T204224
CREATED:20240917T121807Z
LAST-MODIFIED:20240917T121807Z
UID:2079-1732647600-1732658400@aufildelamarne.fr
SUMMARY:Cours adultes collectifs
DESCRIPTION:Nos cours collectifs sont accessibles à tous les niveaux\, que vous soyez débutant ou confirmé. \nDurée : 3 heures (hors vacances scolaires) \n✂️ Les tissus\, mercerie et patrons ne sont pas compris dans le prix. \n💶 59 € à la carte \n💡 Nous proposons des abonnements annuels ou mensuels\, selon vos envies. N’hésitez pas à consulter nos tarifs ici. \n📅  Les horaires des cours collectifs sont : \nMardi 19-22h \nJeudi 14h30-17h30  \nSamedi 9h30-12h30
URL:https://aufildelamarne.fr/atelier/cours-adultes-collectifs-55/
LOCATION:3 Rue Léon Menu\, 94360 Bry-sur-Marne\, 3 rue Léon Menu\, Bry-sur-Marne\, 94360\, France
CATEGORIES:Cours adultes
ATTACH;FMTTYPE=image/jpeg:https://aufildelamarne.fr/wp-content/uploads/2024/03/15-copie.jpg
END:VEVENT
BEGIN:VEVENT
DTSTART;TZID=Europe/Paris:20241128T143000
DTEND;TZID=Europe/Paris:20241128T173000
DTSTAMP:20260421T204224
CREATED:20240917T124201Z
LAST-MODIFIED:20240917T124201Z
UID:2177-1732804200-1732815000@aufildelamarne.fr
SUMMARY:Cours adultes collectifs
DESCRIPTION:Nos cours collectifs sont accessibles à tous les niveaux\, que vous soyez débutant ou confirmé. \nDurée : 3 heures (hors vacances scolaires) \n✂️ Les tissus\, mercerie et patrons ne sont pas compris dans le prix. \n💶 59 € à la carte \n💡 Nous proposons des abonnements annuels ou mensuels\, selon vos envies. N’hésitez pas à consulter nos tarifs ici. \n📅  Les horaires des cours collectifs sont : \nMardi 19-22h \nJeudi 14h30-17h30  \nSamedi 9h30-12h30
URL:https://aufildelamarne.fr/atelier/cours-adultes-collectifs-60/
LOCATION:3 Rue Léon Menu\, 94360 Bry-sur-Marne\, 3 rue Léon Menu\, Bry-sur-Marne\, 94360\, France
CATEGORIES:Cours adultes
ATTACH;FMTTYPE=image/jpeg:https://aufildelamarne.fr/wp-content/uploads/2024/03/42.jpg
END:VEVENT
BEGIN:VEVENT
DTSTART;TZID=Europe/Paris:20241130T093000
DTEND;TZID=Europe/Paris:20241130T123000
DTSTAMP:20260421T204224
CREATED:20240917T103200Z
LAST-MODIFIED:20240917T103319Z
UID:2088-1732959000-1732969800@aufildelamarne.fr
SUMMARY:Cours adultes collectifs
DESCRIPTION:Nos cours collectifs sont accessibles à tous les niveaux\, que vous soyez débutant ou confirmé. \nDurée : 3 heures (hors vacances scolaires) \n✂️ Les tissus\, mercerie et patrons ne sont pas compris dans le prix. \n💶 59 € à la carte \n💡 Nous proposons des abonnements annuels ou mensuels\, selon vos envies. N’hésitez pas à consulter nos tarifs ici. \n📅  Les horaires des cours collectifs sont : \nMardi 19-22h \nJeudi 14h30-17h30  \nSamedi 9h30-12h30
URL:https://aufildelamarne.fr/atelier/cours-adultes-collectifs-44/
LOCATION:3 Rue Léon Menu\, 94360 Bry-sur-Marne\, 3 rue Léon Menu\, Bry-sur-Marne\, 94360\, France
CATEGORIES:Cours adultes
ATTACH;FMTTYPE=image/jpeg:https://aufildelamarne.fr/wp-content/uploads/2024/03/15-copie.jpg
END:VEVENT
END:VCALENDAR